BEGIN:VCALENDAR
VERSION:2.0
PRODID:-//Iowa Children&#039;s Museum - ECPv6.15.20//NONSGML v1.0//EN
CALSCALE:GREGORIAN
METHOD:PUBLISH
X-ORIGINAL-URL:https://theicm.org
X-WR-CALDESC:Events for Iowa Children&#039;s Museum
REFRESH-INTERVAL;VALUE=DURATION:PT1H
X-Robots-Tag:noindex
X-PUBLISHED-TTL:PT1H
BEGIN:VTIMEZONE
TZID:America/Chicago
BEGIN:DAYLIGHT
TZOFFSETFROM:-0600
TZOFFSETTO:-0500
TZNAME:CDT
DTSTART:20250309T080000
END:DAYLIGHT
BEGIN:STANDARD
TZOFFSETFROM:-0500
TZOFFSETTO:-0600
TZNAME:CST
DTSTART:20251102T070000
END:STANDARD
BEGIN:DAYLIGHT
TZOFFSETFROM:-0600
TZOFFSETTO:-0500
TZNAME:CDT
DTSTART:20260308T080000
END:DAYLIGHT
BEGIN:STANDARD
TZOFFSETFROM:-0500
TZOFFSETTO:-0600
TZNAME:CST
DTSTART:20261101T070000
END:STANDARD
BEGIN:DAYLIGHT
TZOFFSETFROM:-0600
TZOFFSETTO:-0500
TZNAME:CDT
DTSTART:20270314T080000
END:DAYLIGHT
BEGIN:STANDARD
TZOFFSETFROM:-0500
TZOFFSETTO:-0600
TZNAME:CST
DTSTART:20271107T070000
END:STANDARD
END:VTIMEZONE
BEGIN:VEVENT
DTSTART;TZID=America/Chicago:20260528T100000
DTEND;TZID=America/Chicago:20260528T180000
DTSTAMP:20260419T180631
CREATED:20251017T173616Z
LAST-MODIFIED:20260413T174619Z
UID:10004820-1779962400-1779991200@theicm.org
SUMMARY:Iowa Children's Open 2026
DESCRIPTION:Chip in for the kids during the 2026 Iowa Children’s Open\, presented by United Iowa Financial and Watts Group! Beyond having fun on the links\, you will help us raise essential funds to further The Iowa Children’s Museum’s mission and fuel our many community programs. \nThis tournament has been bringing our community together on the green since 2010\, growing into a premier event that makes a real impact. Year after year\, teams and individuals step up to support a great cause\, helping us raise over $1.5 million for children in our community. Now\, we’re looking ahead to another incredible year—and we need YOU to make it our best yet! \nView winners and photos from last year’s event here! \nContact Jeff Capps at 319-625-6255 ext. 210 or jcapps@theicm.org with any questions.  \nTENTATIVE SCHEDULE\n10:00 AM     Registration Open \n11:00 AM     Lunch & Shotgun Start \n4:30 PM       PAR-TEE Social Hour with Awards and Auctions \nREGISTRATION\n$1\,200 per foursome. Click here to register! \nFORMAT\n4-person Best Shot! 18 holes of golf with cart included \nGOLF INCLUDES\n\nComplimentary lunch \nDrink tickets and access to hosted keg\nTee Gifts (details below)\nEntry to the PAR-TEE \nThe great feeling that comes with supporting a nonprofit that serves thousands of children and families each year.\n\nDon’t forget to add an Activity Wristband Package when you register to make your day on the course even more memorable! \nTEE GIFTS\nEach golfer will receive an event-branded leather shoe caddy and magnetic wireless speaker\, as well as a free drink from Chart Room and a free drink/koozie from Big Grove Iowa City!
URL:https://theicm.org/event/iowa-childrens-open-2026/
LOCATION:Brown Deer Golf Club\, 1900 Country Club Dr\, Coralville\, 52241\, United States
CATEGORIES:Community Events
ATTACH;FMTTYPE=image/jpeg:https://theicm.org/wp-content/uploads/2025/10/ICO-Promo-Image-Facebook-1200-x-450-px-1920-x-1080-px-1.jpg
END:VEVENT
END:VCALENDAR